BEGIN:VCALENDAR
VERSION:2.0
PRODID:-//eventon.com NONSGML v1.0//EN
BEGIN:VEVENT
UID:69e8908772cfa
DTSTAMP:20260422T101031
DTSTART:20230616T190000Z
DTEND:20230616T193000Z
LOCATION:
SUMMARY:Círculos de Silencio: ser refugiado es un derecho humano
DESCRIPTION: El viernes 16 de junio nos volvemos a encontrar a las 20h en Círculos de Silencio por los derechos de las personas migrantes en Fuente Dorada Nos concentramos para denunciar la tragedia\,  exclusión y precariedad que viven las personas migrantes. 🗣️ En los círculos de silencio expresaremos nuestra solidaridad con[..]
END:VEVENT
END:VCALENDAR