BEGIN:VCALENDAR
VERSION:2.0
PRODID:-//eventon.com NONSGML v1.0//EN
BEGIN:VEVENT
UID:69e8aa8a4e03b
DTSTAMP:20260422T120130
DTSTART:20231216T103000Z
DTEND:20231216T123000Z
LOCATION:
SUMMARY:Encuentro de oración de Adviento #tejiendocomunidad
DESCRIPTION: 
END:VEVENT
END:VCALENDAR